BEGIN:VCALENDAR
VERSION:2.0
PRODID:-//NoraWalksInSpirit - ECPv6.15.20//NONSGML v1.0//EN
CALSCALE:GREGORIAN
METHOD:PUBLISH
X-WR-CALNAME:NoraWalksInSpirit
X-ORIGINAL-URL:https://norawalksinspirit.com
X-WR-CALDESC:Events for NoraWalksInSpirit
REFRESH-INTERVAL;VALUE=DURATION:PT1H
X-Robots-Tag:noindex
X-PUBLISHED-TTL:PT1H
BEGIN:VTIMEZONE
TZID:America/Toronto
BEGIN:DAYLIGHT
TZOFFSETFROM:-0500
TZOFFSETTO:-0400
TZNAME:EDT
DTSTART:20240310T070000
END:DAYLIGHT
BEGIN:STANDARD
TZOFFSETFROM:-0400
TZOFFSETTO:-0500
TZNAME:EST
DTSTART:20241103T060000
END:STANDARD
BEGIN:DAYLIGHT
TZOFFSETFROM:-0500
TZOFFSETTO:-0400
TZNAME:EDT
DTSTART:20250309T070000
END:DAYLIGHT
BEGIN:STANDARD
TZOFFSETFROM:-0400
TZOFFSETTO:-0500
TZNAME:EST
DTSTART:20251102T060000
END:STANDARD
BEGIN:DAYLIGHT
TZOFFSETFROM:-0500
TZOFFSETTO:-0400
TZNAME:EDT
DTSTART:20260308T070000
END:DAYLIGHT
BEGIN:STANDARD
TZOFFSETFROM:-0400
TZOFFSETTO:-0500
TZNAME:EST
DTSTART:20261101T060000
END:STANDARD
END:VTIMEZONE
BEGIN:VEVENT
DTSTART;TZID=America/Toronto:20251010T190000
DTEND;TZID=America/Toronto:20251010T200000
DTSTAMP:20260423T174459
CREATED:20251002T131033Z
LAST-MODIFIED:20251002T132005Z
UID:10000638-1760122800-1760126400@norawalksinspirit.com
SUMMARY:10-10 Gateway: A Hoop of Oneness of Love
DESCRIPTION:Register on Zoom\n			\n				\n				\n				\n				\n				Masters Speak through me…  \nJoin in ONENESS with NoraWalksInSpirit with Infinite Masters of Love Light Peace    \nLIVE 1 Hour ZOOM EVENT 7:00pm -8:00pm \nThis GATEWAY heralds the Awakening ONENESS Consciousness in all Man Kingdom to begin Transmitting LOVE\, Light\, Peace into all of Gaia’s Kingdoms and Elements and to Balance all Hearts and Minds into Harmonics of Oneness of Love \nThe Infinite Masters are calling upon a Gathering into a Hoop of Oneness to \n\nACTIVATE ONENESS Consciousness into all Hearts and Minds\nAwaken Crystal CODES hidden within your Systems to align ONENESS\nBalance your Hearts and Minds back into Oneness Consciousness\nTransmit this Love Light Peace into Grid Systems and into Gaia Kingdoms\n\nA Infinite 10-10 GATEWAY of LOVE wrapped into a Hoop of ONENESS to be Aligned\, Balanced\, Awakened and Activated into ONENESS Consciousness within your Soul Body\, Hearts and Minds with all of Grid Systems and Kingdoms on this entire planet. \nInfinite Master Fee: $10 + HST \n			\n				\n				\n				\n				\n				\n\n  \n\n\n\n\nDISCLAIMER: The Healings and Techniques performed are not intended to be used as an alternative or substitute for Professional Medical treatment and care. Please note that during the reading of channels you will be energetically guided and connected with the Channeled LIGHT BEINGS who may elevate and activate your own Divine Gifts within. \nRefund Policy: No refunds\, if your cancellation is less than 24 hours prior to this event. \nAll Rights Reserved: No part of these written Transcripts or Audio Activations and all Recordings may be Reproduced by any mechanical\, photographic\, or electronic process; nor any be Transmitted or otherwise written or copied for public use without prior permission from NoraWalksInSpirit Inc.
URL:https://norawalksinspirit.com/event/10-10-gateway-a-hoop-of-oneness-of-love/
LOCATION:Zoom
CATEGORIES:Gateway,Masters Speak
ATTACH;FMTTYPE=image/jpeg:https://norawalksinspirit.com/wp-content/uploads/2025/10/10-10-Gateway_A-Hoop-of-Oneness-of-Love_norawalksinspirit.jpg
END:VEVENT
BEGIN:VEVENT
DTSTART;TZID=America/Toronto:20250808T120000
DTEND;TZID=America/Toronto:20250808T140000
DTSTAMP:20260423T174500
CREATED:20250723T005638Z
LAST-MODIFIED:20250827T215642Z
UID:10000623-1754654400-1754661600@norawalksinspirit.com
SUMMARY:Masters Speak: 8:8 Gateway of Infinite Life Love
DESCRIPTION:Listen to the Replay\n			\n				\n				\n				\n				\n				Masters Speak through me…  \nThe time has arrived for releasing all limiting beliefs\, old conditioning patterns & ego-based thought forms to embrace\, align with & master the unified consciousness of Love & Light. \nYour awakened Soul is transmitting Light Frequencies into your conscious awareness\, calling you to invite your Inner Child Soul to harmonize\, connect & integrate with your Higher Light Soul of Mastery Consciousness. \nThe 8:8 Gateway Opening \nInfinite Masters converge upon this sacred 8:8 Gateway\, illuminating all consciousness to perceive & experience these Electromagnetic Energies that awaken dormant Light Codes of Higher Reality. \nReceive the breath of this 8:8 Gateway through the eternal ‘8’ Symbols of soul-to-soul connection. \nYour Inner Soul Being is longing for a deeper Inner Knowing: \n\nWhat infinite possibilities do these hidden Light CODES within you seek to manifest?\nAre these Light CODES guiding your Heart\, Mind & Soul into ONENESS?\nDo you sense these Infinite 8 Light Codes stirring within\, preparing you for an Infinite ‘8’ Activation?\nIs humanity ready to transition from dense Forms into Light-Consciousness?\nAre we collectively birthing an Infinite 8 Light CODE Consciousness through this 8:8 Gateway?\n\nWe stand at the threshold of a New Evolution of Light Consciousness\, as a un \nInfinite Master Fee: FREE \n			\n				\n				\n				\n				\n				\n\n  \n\n\n\n\nDISCLAIMER: The Healings and Techniques performed are not intended to be used as an alternative or substitute for Professional Medical treatment and care. Please note that during the reading of channels you will be energetically guided and connected with the Channeled LIGHT BEINGS who may elevate and activate your own Divine Gifts within. \nRefund Policy: No refunds\, if your cancellation is less than 24 hours prior to this event. \nAll Rights Reserved: No part of these written Transcripts or Audio Activations and all Recordings may be Reproduced by any mechanical\, photographic\, or electronic process; nor any be Transmitted or otherwise written or copied for public use without prior permission from NoraWalksInSpirit Inc.
URL:https://norawalksinspirit.com/event/masters-speak-88-gateway-of-infinite-life-love/
CATEGORIES:Gateway,Masters Speak
ATTACH;FMTTYPE=image/png:https://norawalksinspirit.com/wp-content/uploads/2025/07/Grace-Full-Connections_aug-8-2025_norawalksinspirit.png
END:VEVENT
BEGIN:VEVENT
DTSTART;TZID=America/Toronto:20250606T130000
DTEND;TZID=America/Toronto:20250606T140000
DTSTAMP:20260423T174500
CREATED:20250527T232920Z
LAST-MODIFIED:20250528T002228Z
UID:10000617-1749214800-1749218400@norawalksinspirit.com
SUMMARY:Masters Speak: 6:6 Gateway - Gathering into the Plasma Light Spectrums to become ONENESS
DESCRIPTION:Register on Zoom\n			\n				\n				\n				\n				\n				Masters Speak through me…  \nThe number ‘6’ empowers Rings of Light in formations of Spheres in Merkabah Light Rotations of Electromagnetic Fields around our Planetary Consciousness. \nWe are Feeling this new wave of Light Consciousness on this 6:6 Gateway to Reality \nThis 6:6 GATEWAY awakens all originating Crystallizing Light CODES to be aligned back into Infinite Vibrations of Light CODES inside all Hearts\, Minds\, Bodies. \nAll originating aspects\, gifts\, and virtues are surfacing inside our Cellular Memory Bodies as we accept\, adapt\, acknowledge and breathe IN Crystal Light Consciousness . \nYour Light Consciousness that is of a Diamond Light Frequency that is releasing blankets of old Coded Timelines of imprinted Matrix Codes that were created to collapse your Crystalline Light Matrix CODES of Infinite Light Intelligences of Mastery Energies! \nYou are Breathing IN your own Diamond Frequency CODES that are reawakening and releasing old Codes of a 666 Matrix to be now dissolved and reformatted into your original Crystallized Magnetic Light Matrix of a Vesica Peces of Infinite Light CODES. \nJoin NoraWalksInSpirit for an INFINITE LIGHT ACTIVATION to get connected to your Soul Light Codes of Reality on a 6:6 Gateway. \nInfinite Master Fee: $25 + HST \n			\n				\n				\n				\n				\n				\n\n  \n\n\n\n\nDISCLAIMER: The Healings and Techniques performed are not intended to be used as an alternative or substitute for Professional Medical treatment and care. Please note that during the reading of channels you will be energetically guided and connected with the Channeled LIGHT BEINGS who may elevate and activate your own Divine Gifts within. \nRefund Policy: No refunds\, if your cancellation is less than 24 hours prior to this event. \nAll Rights Reserved: No part of these written Transcripts or Audio Activations and all Recordings may be Reproduced by any mechanical\, photographic\, or electronic process; nor any be Transmitted or otherwise written or copied for public use without prior permission from NoraWalksInSpirit Inc.
URL:https://norawalksinspirit.com/event/masters-speak-66-gateway-gathering-into-the-plasma-light-spectrums-to-become-oneness/
LOCATION:Zoom
CATEGORIES:Gateway,Masters Speak
ATTACH;FMTTYPE=image/jpeg:https://norawalksinspirit.com/wp-content/uploads/2025/05/66-Gateway-Gathering-into-the-Plasma-Light-Spectrums-to-become-ONENESS_norawalksinspirit.jpg
END:VEVENT
BEGIN:VEVENT
DTSTART;TZID=America/Toronto:20250505T190000
DTEND;TZID=America/Toronto:20250505T200000
DTSTAMP:20260423T174500
CREATED:20250426T185821Z
LAST-MODIFIED:20250429T233041Z
UID:10000604-1746471600-1746475200@norawalksinspirit.com
SUMMARY:Masters Speak: 5-5 Gateway - Pouring in Telepathic Light in Helix Patterns of Oneness
DESCRIPTION:Register on Zoom\n			\n				\n				\n				\n				\n				Masters Speak through me…  \nA heightened vibration of Universal Light Energies streaming down in a Helix Pattern of the ‘S” Formation. A Golden Strand of your Soul Light Consciousness connecting into your Inner Mind\, Inner Mind’s Eye pouring of Universal Light Particles down from all Solar Chakras in the Realms into your 7 Chakras in this “S” Formation into the entire body. \nOnce in the body\, this vibration of your Human Consciousness will blend also as this shimmering “S” Formation creating a Helix Pattern of Oneness moving throughout your entire body. As each of your Chakras blend into the Oneness of Light Consciousness the Spirit of Light Who You Are becomes quietly Blended\, Integrated in fullness of Oneness. \nBreathing IN the Universal Light into your Inner Soul Being becoming Oneness of Light. \nI will be calling in all your Spirit Guide\, Master Teachers\, Unknown/UnSeen Ones\, the Ancient Ones of your majestic Evolutionary Ancestor Timelines. \nI will be delivering an Infinite Master Activation as this Helix vibration of 2 Strands of your Souls Light blended as Essences of a Universal Soul to the Inner Soul Evolutionary Mindin depth information an activation. \nInfinite Master Fee: $25 + HST \n			\n				\n				\n				\n				\n				\n\n  \n\n\n\n\nDISCLAIMER: The Healings and Techniques performed are not intended to be used as an alternative or substitute for Professional Medical treatment and care. Please note that during the reading of channels you will be energetically guided and connected with the Channeled LIGHT BEINGS who may elevate and activate your own Divine Gifts within. \nRefund Policy: No refunds\, if your cancellation is less than 24 hours prior to this event. \nAll Rights Reserved: No part of these written Transcripts or Audio Activations and all Recordings may be Reproduced by any mechanical\, photographic\, or electronic process; nor any be Transmitted or otherwise written or copied for public use without prior permission from NoraWalksInSpirit Inc.
URL:https://norawalksinspirit.com/event/masters-speak-5-5-gateway-pouring-in-telepathic-light-in-helix-patterns-of-oneness/
LOCATION:Zoom
CATEGORIES:Gateway,Masters Speak
ATTACH;FMTTYPE=image/jpeg:https://norawalksinspirit.com/wp-content/uploads/2025/04/s-helix-light.jpg
END:VEVENT
BEGIN:VEVENT
DTSTART;TZID=America/Toronto:20250202T130000
DTEND;TZID=America/Toronto:20250202T140000
DTSTAMP:20260423T174500
CREATED:20250128T170051Z
LAST-MODIFIED:20250128T183932Z
UID:10000580-1738501200-1738504800@norawalksinspirit.com
SUMMARY:Masters Speak: 2-2 Gateway of Infinite Light Love
DESCRIPTION:Register on Zoom\n			\n				\n				\n				\n				\n				Masters Speak through me…  \n“2” Soul ESSENCES arriving and bowing down into ONENESS of LOVE  \nIt is time for the Letting Go of all Ego\, all Humanness Thought Forms\, and old patterns to accept\, adapt and create your Mastery of ONENESS of Love Light Freedom.  \nIt is time to go into your own Stillness to FEEL these poking energies to connect into your Soul Portal or Passageway where your Master Soul and its abilities awaits you. \nYou have a quiet Soul that is poking Light Frequencies into your mind trying to get your attention to ASK for your Hidden Gifts to amplify and become your hidden Light within. \nHow do WE connect to our Hidden Soul Light Templates to awaken our Minds and Bodies to a ONENESS of Love Light and Freedom? \nWe ASK the Infinite Masters to pour in the LOVE on this 2:2 GATEWAY.  \nPlease note: A ZOOM link will be sent upon registration\, as well as a reminder within 24 hours prior to the event. The REPLAY will be sent within 48 Hours after the conclusion of the event.\n			\n				\n				\n				\n				\n				\n\n  \n\n\n\n\nDISCLAIMER: The Healings and Techniques performed are not intended to be used as an alternative or substitute for Professional Medical treatment and care. Please note that during the reading of channels you will be energetically guided and connected with the Channeled LIGHT BEINGS who may elevate and activate your own Divine Gifts within. \nRefund Policy: No refunds\, if your cancellation is less than 24 hours prior to this event. \nAll Rights Reserved: No part of these written Transcripts or Audio Activations and all Recordings may be Reproduced by any mechanical\, photographic\, or electronic process; nor any be Transmitted or otherwise written or copied for public use without prior permission from NoraWalksInSpirit Inc.
URL:https://norawalksinspirit.com/event/masters-speak-2-2-gateway-of-infinite-light-love/
LOCATION:Zoom
CATEGORIES:Gateway,Masters Speak
ATTACH;FMTTYPE=image/jpeg:https://norawalksinspirit.com/wp-content/uploads/2025/01/2-2_2025_norawalksinspirit.jpg
END:VEVENT
END:VCALENDAR