BEGIN:VCALENDAR
VERSION:2.0
PRODID:-//NoraWalksInSpirit - ECPv6.15.20//NONSGML v1.0//EN
CALSCALE:GREGORIAN
METHOD:PUBLISH
X-ORIGINAL-URL:https://norawalksinspirit.com
X-WR-CALDESC:Events for NoraWalksInSpirit
REFRESH-INTERVAL;VALUE=DURATION:PT1H
X-Robots-Tag:noindex
X-PUBLISHED-TTL:PT1H
BEGIN:VTIMEZONE
TZID:America/Toronto
BEGIN:DAYLIGHT
TZOFFSETFROM:-0500
TZOFFSETTO:-0400
TZNAME:EDT
DTSTART:20230312T070000
END:DAYLIGHT
BEGIN:STANDARD
TZOFFSETFROM:-0400
TZOFFSETTO:-0500
TZNAME:EST
DTSTART:20231105T060000
END:STANDARD
BEGIN:DAYLIGHT
TZOFFSETFROM:-0500
TZOFFSETTO:-0400
TZNAME:EDT
DTSTART:20240310T070000
END:DAYLIGHT
BEGIN:STANDARD
TZOFFSETFROM:-0400
TZOFFSETTO:-0500
TZNAME:EST
DTSTART:20241103T060000
END:STANDARD
BEGIN:DAYLIGHT
TZOFFSETFROM:-0500
TZOFFSETTO:-0400
TZNAME:EDT
DTSTART:20250309T070000
END:DAYLIGHT
BEGIN:STANDARD
TZOFFSETFROM:-0400
TZOFFSETTO:-0500
TZNAME:EST
DTSTART:20251102T060000
END:STANDARD
END:VTIMEZONE
BEGIN:VEVENT
DTSTART;TZID=America/Toronto:20241221T190000
DTEND;TZID=America/Toronto:20241221T200000
DTSTAMP:20260423T052304
CREATED:20241128T233433Z
LAST-MODIFIED:20241205T174254Z
UID:10000479-1734807600-1734811200@norawalksinspirit.com
SUMMARY:Masters Speak: Winter Solstice 2024
DESCRIPTION:Register on Zoom\n			\n				\n				\n				\n				\n				Masters Speak through me…  \nWinter Solstice energies are aligning you into Realities preparing you for the New Year. \nYou have been accelerating all Year into Heightened Awareness Frequencies of a New Consciousness arriving. And now on this December Solstice all will be adjusting and building a New Pattern of Seeing\, Hearing\, Feeling and Knowing of this 5th Dimension. \nOn this12/21 Solstice\, you begin Integrating into your Quantum Matrix fields of Light Networks of even greater Dimensions that will be arriving on this Solstice. \nWE as Infinite Masters will be delivering you a Quantum Activation that will Activate your Crystal Seed CODES of Transformation and Ascension Frequencies into your hearts\, minds and bodies adjusting you into these NEW Quantum Realities. \nAll will begin sensing and knowing of their own Reality Consciousness for that what will come to be an Elliptical New Year of 2025. \nPlease note: A ZOOM link will be sent upon registration\, as well as a reminder within 24 hours prior to the event. The REPLAY will be sent within 48 Hours after the conclusion of the event. \n			\n				\n				\n				\n				\n				\n\n  \n\n\n\n\nDISCLAIMER: The Healings and Techniques performed are not intended to be used as an alternative or substitute for Professional Medical treatment and care. Please note that during the reading of channels you will be energetically guided and connected with the Channeled LIGHT BEINGS who may elevate and activate your own Divine Gifts within. \nRefund Policy: No refunds\, if your cancellation is less than 24 hours prior to this event. \nAll Rights Reserved: No part of these written Transcripts or Audio Activations and all Recordings may be Reproduced by any mechanical\, photographic\, or electronic process; nor any be Transmitted or otherwise written or copied for public use without prior permission from NoraWalksInSpirit Inc.
URL:https://norawalksinspirit.com/event/masters-speak-winter-solstice-2024/
LOCATION:Zoom
CATEGORIES:Masters Speak
ATTACH;FMTTYPE=image/jpeg:https://norawalksinspirit.com/wp-content/uploads/2024/11/winter-solstice-2024_norawalksinspirit.jpg
END:VEVENT
END:VCALENDAR